BEGIN:VCALENDAR
VERSION:2.0
PRODID:-//3nity.com//3nity CMS//EN
BEGIN:VEVENT
SUMMARY:MMBDA Prayer Call
UID:2026-07-18-1204512@www.metropolitanbaptistdistrict.org
SEQUENCE:0
STATUS:CONFIRMED
DTSTART:20260427T060000
DTEND:20260427T063000
DTSTAMP:20161222T120000
DESCRIPTION:Join us every Monday Morning for the MMBDA Weekly Prayer Call. The conference call line is 617-404-1444 and the access code is 77250.
URL:http://www.metropolitanbaptistdistrict.org
END:VEVENT
END:VCALENDAR
